BEGIN:VCALENDAR
VERSION:2.0
PRODID:-//Creative Montessori Academy - ECPv6.15.20//NONSGML v1.0//EN
CALSCALE:GREGORIAN
METHOD:PUBLISH
X-ORIGINAL-URL:https://creative-montessori.com
X-WR-CALDESC:Events for Creative Montessori Academy
REFRESH-INTERVAL;VALUE=DURATION:PT1H
X-Robots-Tag:noindex
X-PUBLISHED-TTL:PT1H
BEGIN:VTIMEZONE
TZID:America/Detroit
BEGIN:DAYLIGHT
TZOFFSETFROM:-0500
TZOFFSETTO:-0400
TZNAME:EDT
DTSTART:20190310T070000
END:DAYLIGHT
BEGIN:STANDARD
TZOFFSETFROM:-0400
TZOFFSETTO:-0500
TZNAME:EST
DTSTART:20191103T060000
END:STANDARD
BEGIN:DAYLIGHT
TZOFFSETFROM:-0500
TZOFFSETTO:-0400
TZNAME:EDT
DTSTART:20200308T070000
END:DAYLIGHT
BEGIN:STANDARD
TZOFFSETFROM:-0400
TZOFFSETTO:-0500
TZNAME:EST
DTSTART:20201101T060000
END:STANDARD
BEGIN:DAYLIGHT
TZOFFSETFROM:-0500
TZOFFSETTO:-0400
TZNAME:EDT
DTSTART:20210314T070000
END:DAYLIGHT
BEGIN:STANDARD
TZOFFSETFROM:-0400
TZOFFSETTO:-0500
TZNAME:EST
DTSTART:20211107T060000
END:STANDARD
BEGIN:DAYLIGHT
TZOFFSETFROM:-0500
TZOFFSETTO:-0400
TZNAME:EDT
DTSTART:20220313T070000
END:DAYLIGHT
BEGIN:STANDARD
TZOFFSETFROM:-0400
TZOFFSETTO:-0500
TZNAME:EST
DTSTART:20221106T060000
END:STANDARD
END:VTIMEZONE
BEGIN:VEVENT
DTSTART;TZID=America/Detroit:20210813T100000
DTEND;TZID=America/Detroit:20210813T123000
DTSTAMP:20260424T131107
CREATED:20210616T160154Z
LAST-MODIFIED:20210616T160154Z
UID:24790-1628848800-1628857800@creative-montessori.com
SUMMARY:Heritage Park\, Taylor - Scavenger hunt & ice cream truck
DESCRIPTION:
URL:https://creative-montessori.com/event/heritage-park-taylor-scavenger-hunt-ice-cream-truck/
CATEGORIES:Summer Event
END:VEVENT
BEGIN:VEVENT
DTSTART;TZID=America/Detroit:20210721T100000
DTEND;TZID=America/Detroit:20210721T123000
DTSTAMP:20260424T131107
CREATED:20210616T160003Z
LAST-MODIFIED:20210616T160003Z
UID:24788-1626861600-1626870600@creative-montessori.com
SUMMARY:Heritage Park\, Taylor  - Games & Races
DESCRIPTION:
URL:https://creative-montessori.com/event/heritage-park-taylor-games-races/
CATEGORIES:Summer Event
END:VEVENT
BEGIN:VEVENT
DTSTART;TZID=America/Detroit:20200731T080000
DTEND;TZID=America/Detroit:20200731T083000
DTSTAMP:20260424T131107
CREATED:20200729T210639Z
LAST-MODIFIED:20200729T210639Z
UID:24315-1596182400-1596184200@creative-montessori.com
SUMMARY:Virtual Town Hall
DESCRIPTION:Join us for Town Hall this Friday! Dr. Carter and Ms. Loger\, our headmasters\, will be going Live at 8am on our Facebook page to discuss Return to School Plans and frequently asked questions. Tune in to leave comments and get your questions answered in real-time\, or just to hear about the happenings at CMA!
URL:https://creative-montessori.com/event/virtual-town-hall/
CATEGORIES:Summer Event
ATTACH;FMTTYPE=image/png:https://creative-montessori.com/wp-content/uploads/2020/07/Screen-Shot-2020-07-29-at-5.00.20-PM.png
END:VEVENT
END:VCALENDAR